BEGIN:VCALENDAR
VERSION:2.0
PRODID:-//hacksw/handcal//NONSGML v1.0//EN
BEGIN:VEVENT
SUMMARY:Cours premiere annee
UID:13de0f44-dcc7-4ee2-b152-bb8c71413380
DTSTART:20280401T120000Z
DTEND:20280401T133000Z
LOCATION:Localisation   
CATEGORIES:Sportif
STATUS:
URL;VALUE=URI:https://archers-de-quimperle.sportsregions.fr/evenements/2028/04/01/cours-premiere-annee-2428045
END:VEVENT
END:VCALENDAR
