BEGIN:VCALENDAR
VERSION:2.0
PRODID:-//hacksw/handcal//NONSGML v1.0//EN
BEGIN:VEVENT
SUMMARY:Entrainement libre
UID:839d87bd-6548-4126-ad2a-49a8b06f85a6
DTSTART:20280401T150000Z
DTEND:20280401T180000Z
LOCATION:Localisation   
CATEGORIES:Sportif
STATUS:
URL;VALUE=URI:https://archers-de-quimperle.sportsregions.fr/evenements/2028/04/01/entrainement-libre-2428354
END:VEVENT
END:VCALENDAR
