BEGIN:VCALENDAR
VERSION:2.0
PRODID:-//hacksw/handcal//NONSGML v1.0//EN
BEGIN:VEVENT
SUMMARY:Cours deuxieme et +
UID:baf4f534-b5bd-481b-8b5b-d12c43ad0ffc
DTSTART:20281104T143000Z
DTEND:20281104T160000Z
LOCATION:Localisation   
CATEGORIES:Sportif
STATUS:
URL;VALUE=URI:https://archers-de-quimperle.sportsregions.fr/evenements/2028/11/04/cours-deuxieme-et-2428222
END:VEVENT
END:VCALENDAR
