BEGIN:VCALENDAR
VERSION:2.0
PRODID:-//hacksw/handcal//NONSGML v1.0//EN
BEGIN:VEVENT
SUMMARY:Cours premiere annee
UID:c6d9e534-633d-43a4-9a64-6481a37b37c0
DTSTART:20281104T130000Z
DTEND:20281104T143000Z
LOCATION:Localisation   
CATEGORIES:Sportif
STATUS:
URL;VALUE=URI:https://archers-de-quimperle.sportsregions.fr/evenements/2028/11/04/cours-premiere-annee-2428068
END:VEVENT
END:VCALENDAR
