BEGIN:VCALENDAR
VERSION:2.0
PRODID:-//hacksw/handcal//NONSGML v1.0//EN
BEGIN:VEVENT
SUMMARY:Entrainement libre
UID:5b3bcf61-4496-4f08-b003-75b45f6b75e1
DTSTART:20281104T160000Z
DTEND:20281104T190000Z
LOCATION:Localisation   
CATEGORIES:Sportif
STATUS:
URL;VALUE=URI:https://archers-de-quimperle.sportsregions.fr/evenements/2028/11/04/entrainement-libre-2428377
END:VEVENT
END:VCALENDAR
