BEGIN:VCALENDAR
VERSION:2.0
PRODID:-//hacksw/handcal//NONSGML v1.0//EN
BEGIN:VEVENT
SUMMARY:Cours deuxieme et +
UID:fd2dd741-86c0-461a-aec4-e91956f6e284
DTSTART:20281118T143000Z
DTEND:20281118T160000Z
LOCATION:Localisation   
CATEGORIES:Sportif
STATUS:
URL;VALUE=URI:https://archers-de-quimperle.sportsregions.fr/evenements/2028/11/18/cours-deuxieme-et-2428220
END:VEVENT
END:VCALENDAR
