BEGIN:VCALENDAR
VERSION:2.0
PRODID:-//hacksw/handcal//NONSGML v1.0//EN
BEGIN:VEVENT
SUMMARY:Cours premiere annee
UID:4045c48c-24ef-46ef-bb17-da88e09e80e5
DTSTART:20281118T130000Z
DTEND:20281118T143000Z
LOCATION:Localisation   
CATEGORIES:Sportif
STATUS:
URL;VALUE=URI:https://archers-de-quimperle.sportsregions.fr/evenements/2028/11/18/cours-premiere-annee-2428066
END:VEVENT
END:VCALENDAR
