BEGIN:VCALENDAR
VERSION:2.0
PRODID:-//hacksw/handcal//NONSGML v1.0//EN
BEGIN:VEVENT
SUMMARY:Entrainement libre
UID:236e9320-1bb0-457c-835b-74df1980dd7f
DTSTART:20281118T160000Z
DTEND:20281118T190000Z
LOCATION:Localisation   
CATEGORIES:Sportif
STATUS:
URL;VALUE=URI:https://archers-de-quimperle.sportsregions.fr/evenements/2028/11/18/entrainement-libre-2428375
END:VEVENT
END:VCALENDAR
