BEGIN:VCALENDAR
VERSION:2.0
PRODID:-//hacksw/handcal//NONSGML v1.0//EN
BEGIN:VEVENT
SUMMARY:Cours premiere annee
UID:33b017cb-b511-4efb-9281-1adb73e7be91
DTSTART:20281125T130000Z
DTEND:20281125T143000Z
LOCATION:Localisation   
CATEGORIES:Sportif
STATUS:
URL;VALUE=URI:https://archers-de-quimperle.sportsregions.fr/evenements/2028/11/25/cours-premiere-annee-2428071
END:VEVENT
END:VCALENDAR
