BEGIN:VCALENDAR
VERSION:2.0
PRODID:-//hacksw/handcal//NONSGML v1.0//EN
BEGIN:VEVENT
SUMMARY:Cours deuxieme et +
UID:bed34df3-3b79-4d3e-b58c-00261a4eac08
DTSTART:20281202T143000Z
DTEND:20281202T160000Z
LOCATION:Localisation   
CATEGORIES:Sportif
STATUS:
URL;VALUE=URI:https://archers-de-quimperle.sportsregions.fr/evenements/2028/12/02/cours-deuxieme-et-2428234
END:VEVENT
END:VCALENDAR
