BEGIN:VCALENDAR
VERSION:2.0
PRODID:-//hacksw/handcal//NONSGML v1.0//EN
BEGIN:VEVENT
SUMMARY:Entrainement libre
UID:843f13ed-be4f-4829-a57e-849b3c1f5e0e
DTSTART:20281202T160000Z
DTEND:20281202T190000Z
LOCATION:Localisation   
CATEGORIES:Sportif
STATUS:
URL;VALUE=URI:https://archers-de-quimperle.sportsregions.fr/evenements/2028/12/02/entrainement-libre-2428389
END:VEVENT
END:VCALENDAR
