BEGIN:VCALENDAR
VERSION:2.0
PRODID:-//hacksw/handcal//NONSGML v1.0//EN
BEGIN:VEVENT
SUMMARY:Cours premiere annee
UID:4ef2a7b9-18eb-4503-8ce8-cae78302725d
DTSTART:20281209T130000Z
DTEND:20281209T143000Z
LOCATION:Localisation   
CATEGORIES:Sportif
STATUS:
URL;VALUE=URI:https://archers-de-quimperle.sportsregions.fr/evenements/2028/12/09/cours-premiere-annee-2428079
END:VEVENT
END:VCALENDAR
