BEGIN:VCALENDAR
VERSION:2.0
PRODID:-//hacksw/handcal//NONSGML v1.0//EN
BEGIN:VEVENT
SUMMARY:Entrainement libre
UID:a708531d-e627-43ae-9916-03f024abefa1
DTSTART:20281209T160000Z
DTEND:20281209T190000Z
LOCATION:Localisation   
CATEGORIES:Sportif
STATUS:
URL;VALUE=URI:https://archers-de-quimperle.sportsregions.fr/evenements/2028/12/09/entrainement-libre-2428388
END:VEVENT
END:VCALENDAR
