BEGIN:VCALENDAR
VERSION:2.0
PRODID:-//hacksw/handcal//NONSGML v1.0//EN
BEGIN:VEVENT
SUMMARY:Entrainement libre
UID:65fbe658-be46-46dc-a401-13b3143d9018
DTSTART:20281216T160000Z
DTEND:20281216T190000Z
LOCATION:Localisation   
CATEGORIES:Sportif
STATUS:
URL;VALUE=URI:https://archers-de-quimperle.sportsregions.fr/evenements/2028/12/16/entrainement-libre-2428387
END:VEVENT
END:VCALENDAR
