BEGIN:VCALENDAR
VERSION:2.0
PRODID:-//hacksw/handcal//NONSGML v1.0//EN
BEGIN:VEVENT
SUMMARY:Cours deuxieme et +
UID:a4b6c215-9fd2-4d69-91e4-d2fad0a7ec4e
DTSTART:20281223T143000Z
DTEND:20281223T160000Z
LOCATION:Localisation   
CATEGORIES:Sportif
STATUS:
URL;VALUE=URI:https://archers-de-quimperle.sportsregions.fr/evenements/2028/12/23/cours-deuxieme-et-2428231
END:VEVENT
END:VCALENDAR
