BEGIN:VCALENDAR
VERSION:2.0
PRODID:-//hacksw/handcal//NONSGML v1.0//EN
BEGIN:VEVENT
SUMMARY:Cours premiere annee
UID:24e11595-3fe3-452b-a7ba-d819bde2bd8d
DTSTART:20281223T130000Z
DTEND:20281223T143000Z
LOCATION:Localisation   
CATEGORIES:Sportif
STATUS:
URL;VALUE=URI:https://archers-de-quimperle.sportsregions.fr/evenements/2028/12/23/cours-premiere-annee-2428077
END:VEVENT
END:VCALENDAR
