BEGIN:VCALENDAR
VERSION:2.0
PRODID:-//hacksw/handcal//NONSGML v1.0//EN
BEGIN:VEVENT
SUMMARY:Entrainement libre
UID:22b17615-214d-4b7f-82ec-3eaaaa07a8dc
DTSTART:20281223T160000Z
DTEND:20281223T190000Z
LOCATION:Localisation   
CATEGORIES:Sportif
STATUS:
URL;VALUE=URI:https://archers-de-quimperle.sportsregions.fr/evenements/2028/12/23/entrainement-libre-2428386
END:VEVENT
END:VCALENDAR
