BEGIN:VCALENDAR
VERSION:2.0
PRODID:-//hacksw/handcal//NONSGML v1.0//EN
BEGIN:VEVENT
SUMMARY:Cours deuxieme et +
UID:b5f6e67b-7aee-41a3-a99d-a2388c27a9cd
DTSTART:20281230T143000Z
DTEND:20281230T160000Z
LOCATION:Localisation   
CATEGORIES:Sportif
STATUS:
URL;VALUE=URI:https://archers-de-quimperle.sportsregions.fr/evenements/2028/12/30/cours-deuxieme-et-2428230
END:VEVENT
END:VCALENDAR
