BEGIN:VCALENDAR
VERSION:2.0
PRODID:-//hacksw/handcal//NONSGML v1.0//EN
BEGIN:VEVENT
SUMMARY:Cours premiere annee
UID:88708ef3-a44c-498e-8807-505d73eabc63
DTSTART:20281230T130000Z
DTEND:20281230T143000Z
LOCATION:Localisation   
CATEGORIES:Sportif
STATUS:
URL;VALUE=URI:https://archers-de-quimperle.sportsregions.fr/evenements/2028/12/30/cours-premiere-annee-2428076
END:VEVENT
END:VCALENDAR
