BEGIN:VCALENDAR
VERSION:2.0
PRODID:-//hacksw/handcal//NONSGML v1.0//EN
BEGIN:VEVENT
SUMMARY:Entrainement libre
UID:5f55dcd7-d04a-45ce-a193-4c20da5c76d6
DTSTART:20281230T160000Z
DTEND:20281230T190000Z
LOCATION:Localisation   
CATEGORIES:Sportif
STATUS:
URL;VALUE=URI:https://archers-de-quimperle.sportsregions.fr/evenements/2028/12/30/entrainement-libre-2428385
END:VEVENT
END:VCALENDAR
