BEGIN:VCALENDAR
VERSION:2.0
PRODID:-//hacksw/handcal//NONSGML v1.0//EN
BEGIN:VEVENT
SUMMARY:Cours deuxieme et +
UID:529baf90-b070-4002-91c9-3aa8950935e6
DTSTART:20290106T143000Z
DTEND:20290106T160000Z
LOCATION:Localisation   
CATEGORIES:Sportif
STATUS:
URL;VALUE=URI:https://archers-de-quimperle.sportsregions.fr/evenements/2029/01/06/cours-deuxieme-et-2428229
END:VEVENT
END:VCALENDAR
