BEGIN:VCALENDAR
VERSION:2.0
PRODID:-//hacksw/handcal//NONSGML v1.0//EN
BEGIN:VEVENT
SUMMARY:Cours premiere annee
UID:44ca901c-3652-408f-8e33-0024589f9514
DTSTART:20290106T130000Z
DTEND:20290106T143000Z
LOCATION:Localisation   
CATEGORIES:Sportif
STATUS:
URL;VALUE=URI:https://archers-de-quimperle.sportsregions.fr/evenements/2029/01/06/cours-premiere-annee-2428075
END:VEVENT
END:VCALENDAR
