BEGIN:VCALENDAR
VERSION:2.0
PRODID:-//hacksw/handcal//NONSGML v1.0//EN
BEGIN:VEVENT
SUMMARY:Entrainement libre
UID:4d28605c-f4ae-40b3-83a0-c4dc235e483d
DTSTART:20290106T160000Z
DTEND:20290106T190000Z
LOCATION:Localisation   
CATEGORIES:Sportif
STATUS:
URL;VALUE=URI:https://archers-de-quimperle.sportsregions.fr/evenements/2029/01/06/entrainement-libre-2428384
END:VEVENT
END:VCALENDAR
