BEGIN:VCALENDAR
VERSION:2.0
PRODID:-//hacksw/handcal//NONSGML v1.0//EN
BEGIN:VEVENT
SUMMARY:Cours deuxieme et +
UID:4efb1ea6-47af-43e6-b428-a31309770345
DTSTART:20290113T143000Z
DTEND:20290113T160000Z
LOCATION:Localisation   
CATEGORIES:Sportif
STATUS:
URL;VALUE=URI:https://archers-de-quimperle.sportsregions.fr/evenements/2029/01/13/cours-deuxieme-et-2428228
END:VEVENT
END:VCALENDAR
