BEGIN:VCALENDAR
VERSION:2.0
PRODID:-//hacksw/handcal//NONSGML v1.0//EN
BEGIN:VEVENT
SUMMARY:Cours premiere annee
UID:57a1041f-de7b-4428-9b60-57928fc96d10
DTSTART:20290113T130000Z
DTEND:20290113T143000Z
LOCATION:Localisation   
CATEGORIES:Sportif
STATUS:
URL;VALUE=URI:https://archers-de-quimperle.sportsregions.fr/evenements/2029/01/13/cours-premiere-annee-2428074
END:VEVENT
END:VCALENDAR
