BEGIN:VCALENDAR
VERSION:2.0
PRODID:-//hacksw/handcal//NONSGML v1.0//EN
BEGIN:VEVENT
SUMMARY:Cours deuxieme et +
UID:6474afdf-4eaa-4ac7-8844-991ca31e3657
DTSTART:20290120T143000Z
DTEND:20290120T160000Z
LOCATION:Localisation   
CATEGORIES:Sportif
STATUS:
URL;VALUE=URI:https://archers-de-quimperle.sportsregions.fr/evenements/2029/01/20/cours-deuxieme-et-2428120
END:VEVENT
END:VCALENDAR
