BEGIN:VCALENDAR
VERSION:2.0
PRODID:-//hacksw/handcal//NONSGML v1.0//EN
BEGIN:VEVENT
SUMMARY:Cours premiere annee
UID:706f9c53-db70-4927-8733-d18b3a7c8624
DTSTART:20290120T130000Z
DTEND:20290120T143000Z
LOCATION:Localisation   
CATEGORIES:Sportif
STATUS:
URL;VALUE=URI:https://archers-de-quimperle.sportsregions.fr/evenements/2029/01/20/cours-premiere-annee-2427966
END:VEVENT
END:VCALENDAR
