BEGIN:VCALENDAR
VERSION:2.0
PRODID:-//hacksw/handcal//NONSGML v1.0//EN
BEGIN:VEVENT
SUMMARY:Cours deuxieme et +
UID:400e3653-253c-41b1-a0d0-75cc46949bb1
DTSTART:20290127T143000Z
DTEND:20290127T160000Z
LOCATION:Localisation   
CATEGORIES:Sportif
STATUS:
URL;VALUE=URI:https://archers-de-quimperle.sportsregions.fr/evenements/2029/01/27/cours-deuxieme-et-2428161
END:VEVENT
END:VCALENDAR
