BEGIN:VCALENDAR
VERSION:2.0
PRODID:-//hacksw/handcal//NONSGML v1.0//EN
BEGIN:VEVENT
SUMMARY:Cours premiere annee
UID:386e3adb-e37a-4ad1-816c-145968aa229c
DTSTART:20290127T130000Z
DTEND:20290127T143000Z
LOCATION:Localisation   
CATEGORIES:Sportif
STATUS:
URL;VALUE=URI:https://archers-de-quimperle.sportsregions.fr/evenements/2029/01/27/cours-premiere-annee-2428007
END:VEVENT
END:VCALENDAR
