BEGIN:VCALENDAR
VERSION:2.0
PRODID:-//hacksw/handcal//NONSGML v1.0//EN
BEGIN:VEVENT
SUMMARY:Entrainement libre
UID:367d56df-ac3f-4ae4-b8db-7eaeb624792d
DTSTART:20290127T160000Z
DTEND:20290127T190000Z
LOCATION:Localisation   
CATEGORIES:Sportif
STATUS:
URL;VALUE=URI:https://archers-de-quimperle.sportsregions.fr/evenements/2029/01/27/entrainement-libre-2428315
END:VEVENT
END:VCALENDAR
