BEGIN:VCALENDAR
VERSION:2.0
PRODID:-//hacksw/handcal//NONSGML v1.0//EN
BEGIN:VEVENT
SUMMARY:Cours premiere annee
UID:74ed95ef-c238-4fb8-a10f-b448486f98c3
DTSTART:20260314T130000Z
DTEND:20260314T143000Z
LOCATION:Localisation   
CATEGORIES:Sportif
STATUS:
URL;VALUE=URI:https://archers-de-quimperle.sportsregions.fr/evenements/2026/03/14/cours-premiere-annee-2427910
END:VEVENT
BEGIN:VEVENT
SUMMARY:Cours deuxieme et +
UID:c282d372-40ab-4eca-a9dc-9d425e784058
DTSTART:20260314T143000Z
DTEND:20260314T160000Z
LOCATION:Localisation   
CATEGORIES:Sportif
STATUS:
URL;VALUE=URI:https://archers-de-quimperle.sportsregions.fr/evenements/2026/03/14/cours-deuxieme-et-2428086
END:VEVENT
BEGIN:VEVENT
SUMMARY:Entrainement libre
UID:38a22cc4-7f93-4de1-be68-e267216ac94f
DTSTART:20260314T160000Z
DTEND:20260314T190000Z
LOCATION:Localisation   
CATEGORIES:Sportif
STATUS:
URL;VALUE=URI:https://archers-de-quimperle.sportsregions.fr/evenements/2026/03/14/entrainement-libre-2428238
END:VEVENT
BEGIN:VEVENT
SUMMARY:Cours premiere annee
UID:de7cee99-2970-41e1-89e3-524f29cc0cfb
DTSTART:20260321T130000Z
DTEND:20260321T143000Z
LOCATION:Localisation   
CATEGORIES:Sportif
STATUS:
URL;VALUE=URI:https://archers-de-quimperle.sportsregions.fr/evenements/2026/03/21/cours-premiere-annee-2428082
END:VEVENT
BEGIN:VEVENT
SUMMARY:Cours confirme
UID:cf551263-3389-43cd-a79f-60765c887f41
DTSTART:20260321T143000Z
DTEND:20260321T160000Z
LOCATION:Localisation   
CATEGORIES:Sportif
STATUS:
URL;VALUE=URI:https://archers-de-quimperle.sportsregions.fr/evenements/2026/03/21/cours-confirme-2428236
END:VEVENT
BEGIN:VEVENT
SUMMARY:Entrainement libre
UID:57424cd6-7886-4301-a9cb-42f33bbf5c3e
DTSTART:20260321T160000Z
DTEND:20260321T190000Z
LOCATION:Localisation   
CATEGORIES:Sportif
STATUS:
URL;VALUE=URI:https://archers-de-quimperle.sportsregions.fr/evenements/2026/03/21/entrainement-libre-2428391
END:VEVENT
BEGIN:VEVENT
SUMMARY:Cours premiere annee
UID:10277ce1-b9e9-472a-8144-c8c50f34ac56
DTSTART:20260328T130000Z
DTEND:20260328T143000Z
LOCATION:Localisation   
CATEGORIES:Sportif
STATUS:
URL;VALUE=URI:https://archers-de-quimperle.sportsregions.fr/evenements/2026/03/28/cours-premiere-annee-2427933
END:VEVENT
BEGIN:VEVENT
SUMMARY:Cours deuxieme et +
UID:7bdff0f8-a944-4e6a-9ebb-12d0beb9239a
DTSTART:20260328T143000Z
DTEND:20260328T160000Z
LOCATION:Localisation   
CATEGORIES:Sportif
STATUS:
URL;VALUE=URI:https://archers-de-quimperle.sportsregions.fr/evenements/2026/03/28/cours-deuxieme-et-2428087
END:VEVENT
BEGIN:VEVENT
SUMMARY:Entrainement libre
UID:50f1e10c-9f8f-4c65-a67e-b276ff78dc5e
DTSTART:20260328T160000Z
DTEND:20260328T190000Z
LOCATION:Localisation   
CATEGORIES:Sportif
STATUS:
URL;VALUE=URI:https://archers-de-quimperle.sportsregions.fr/evenements/2026/03/28/entrainement-libre-2428241
END:VEVENT
BEGIN:VEVENT
SUMMARY:Assemblee generale
UID:24301dfc-50a6-4ff0-9eee-a95ed12266f0
DTSTART:20260328T163000Z
DTEND:20260328T190000Z
LOCATION:Localisation 8 Rue de Kerjouanneau 29300 Quimperle
CATEGORIES:Administratif
STATUS:
URL;VALUE=URI:https://archers-de-quimperle.sportsregions.fr/evenements/2026/03/28/assemblee-generale-2428400
END:VEVENT
BEGIN:VEVENT
SUMMARY:Tir du Roy 1ere annee
UID:5894ae11-d938-4a60-b453-b3f7e0c8bccf
DTSTART:20260404T120000Z
DTEND:20260404T133000Z
LOCATION:Localisation 4 rue de Kerjouanneau 29300 QUIMPERLE
CATEGORIES:Sportif
STATUS:
DESCRIPTION:<p>Tir du Roy des 1ere annee uniquement</p>
URL;VALUE=URI:https://archers-de-quimperle.sportsregions.fr/evenements/2026/04/04/tir-du-roy-1ere-annee-2427953
END:VEVENT
BEGIN:VEVENT
SUMMARY:Tir du Roy deuxieme et +
UID:976a29ba-c765-4e41-80c4-1639225d0f5b
DTSTART:20260404T123000Z
DTEND:20260404T150000Z
LOCATION:Localisation kerbertrand 29300 
CATEGORIES:Sportif
STATUS:
DESCRIPTION:<p>tir du Roy du club hors 1ere annee</p>
URL;VALUE=URI:https://archers-de-quimperle.sportsregions.fr/evenements/2026/04/04/tir-du-roy-deuxieme-et-2428107
END:VEVENT
BEGIN:VEVENT
SUMMARY:Entrainement libre
UID:b2159ae5-0550-4fca-a93c-2af510b85ce0
DTSTART:20260404T150000Z
DTEND:20260404T180000Z
LOCATION:Localisation   
CATEGORIES:Sportif
STATUS:
URL;VALUE=URI:https://archers-de-quimperle.sportsregions.fr/evenements/2026/04/04/entrainement-libre-2428261
END:VEVENT
BEGIN:VEVENT
SUMMARY:Cours premiere annee
UID:82ad6386-4190-4edb-8cd0-ce4bec05fc68
DTSTART:20260411T120000Z
DTEND:20260411T133000Z
LOCATION:Localisation   
CATEGORIES:Sportif
STATUS:
URL;VALUE=URI:https://archers-de-quimperle.sportsregions.fr/evenements/2026/04/11/cours-premiere-annee-2427945
END:VEVENT
BEGIN:VEVENT
SUMMARY:Cours deuxieme et +
UID:38e000dc-1ebe-48d1-8f28-27c213a5d1c9
DTSTART:20260411T133000Z
DTEND:20260411T150000Z
LOCATION:Localisation   
CATEGORIES:Sportif
STATUS:
URL;VALUE=URI:https://archers-de-quimperle.sportsregions.fr/evenements/2026/04/11/cours-deuxieme-et-2428099
END:VEVENT
BEGIN:VEVENT
SUMMARY:Entrainement libre
UID:76a0e279-70f9-46cc-8062-c5e30fbc8315
DTSTART:20260411T150000Z
DTEND:20260411T180000Z
LOCATION:Localisation   
CATEGORIES:Sportif
STATUS:
URL;VALUE=URI:https://archers-de-quimperle.sportsregions.fr/evenements/2026/04/11/entrainement-libre-2428253
END:VEVENT
BEGIN:VEVENT
SUMMARY:Cours premiere annee
UID:93143236-33e0-441c-8680-7d5296cd4768
DTSTART:20260418T120000Z
DTEND:20260418T133000Z
LOCATION:Localisation   
CATEGORIES:Sportif
STATUS:
URL;VALUE=URI:https://archers-de-quimperle.sportsregions.fr/evenements/2026/04/18/cours-premiere-annee-2427955
END:VEVENT
BEGIN:VEVENT
SUMMARY:Cours deuxieme et +
UID:1b71a5bf-5375-4635-bf91-0a5b82f9a119
DTSTART:20260418T133000Z
DTEND:20260418T150000Z
LOCATION:Localisation   
CATEGORIES:Sportif
STATUS:
URL;VALUE=URI:https://archers-de-quimperle.sportsregions.fr/evenements/2026/04/18/cours-deuxieme-et-2428109
END:VEVENT
BEGIN:VEVENT
SUMMARY:Entrainement libre
UID:29d93d40-8839-4b6d-9fda-356b772dc59a
DTSTART:20260418T150000Z
DTEND:20260418T180000Z
LOCATION:Localisation   
CATEGORIES:Sportif
STATUS:
URL;VALUE=URI:https://archers-de-quimperle.sportsregions.fr/evenements/2026/04/18/entrainement-libre-2428263
END:VEVENT
END:VCALENDAR
